BEGIN:VCALENDAR
VERSION:2.0
PRODID:-//Library Market//iCal Export//EN
BEGIN:VEVENT
SUMMARY:Scottie&#039;s Story Time
UID:3107
DTSTAMP:20260421T132600Z
DTSTART:20260827T193000Z
DTEND:20260827T200000Z
LOCATION:301 Lindsay Rd, Carnegie, PA 15106, United States
ROOM: Library
DESCRIPTION:
URL:https://scottlib.librarycalendar.com/event/scotties-story-time-3107
END:VEVENT
END:VCALENDAR
