BEGIN:VCALENDAR
VERSION:2.0
PRODID:-//Library Market//iCal Export//EN
BEGIN:VEVENT
SUMMARY:Scottie&#039;s Story Time
UID:3106
DTSTAMP:20260420T120800Z
DTSTART:20260820T193000Z
DTEND:20260820T200000Z
LOCATION:301 Lindsay Rd, Carnegie, PA 15106, United States
ROOM: Library
DESCRIPTION:
URL:https://scottlib.librarycalendar.com/event/scotties-story-time-3106
END:VEVENT
END:VCALENDAR
