BEGIN:VCALENDAR
VERSION:2.0
PRODID:-//Library Market//iCal Export//EN
BEGIN:VEVENT
SUMMARY:Scottie&#039;s Story Time
UID:3105
DTSTAMP:20260426T033000Z
DTSTART:20260813T193000Z
DTEND:20260813T200000Z
LOCATION:301 Lindsay Rd, Carnegie, PA 15106, United States
ROOM: Library
DESCRIPTION:
URL:https://scottlib.librarycalendar.com/event/scotties-story-time-3105
END:VEVENT
END:VCALENDAR
