BEGIN:VCALENDAR
VERSION:2.0
PRODID:-//Library Market//iCal Export//EN
BEGIN:VEVENT
SUMMARY:Scottie&#039;s Story Time
UID:3102
DTSTAMP:20260420T120800Z
DTSTART:20260723T193000Z
DTEND:20260723T200000Z
LOCATION:301 Lindsay Rd, Carnegie, PA 15106, United States
ROOM: Library
DESCRIPTION:Unearthing a Story is the theme for the Summer Reading Program
 !  Story times will include books and themes from the How Do Dinosaurs? b
 ook series by Jane Yolen.  
URL:https://scottlib.librarycalendar.com/event/scotties-story-time-3102
END:VEVENT
END:VCALENDAR
