BEGIN:VCALENDAR
VERSION:2.0
PRODID:-//Library Market//iCal Export//EN
BEGIN:VEVENT
SUMMARY:Scottie&#039;s Story Time
UID:3096
DTSTAMP:20260422T171000Z
DTSTART:20260604T193000Z
DTEND:20260604T200000Z
LOCATION:301 Lindsay Rd, Carnegie, PA 15106, United States
ROOM: Library
DESCRIPTION:
URL:https://scottlib.librarycalendar.com/event/scotties-story-time-3096
END:VEVENT
END:VCALENDAR
