BEGIN:VCALENDAR
VERSION:2.0
PRODID:-//Library Market//iCal Export//EN
BEGIN:VEVENT
SUMMARY:Adult Color Time
UID:3095
DTSTAMP:20260421T154300Z
DTSTART:20260902T170000Z
DTEND:20260902T200000Z
LOCATION:301 Lindsay Road, Carnegie, PA 15106, United States
ROOM: Small Meeting Room
DESCRIPTION:Note: This color time is rescheduled from Friday, August 28.Pl
 ease join us  in the small meeting room for a relaxing, creative activity
  for adults. This is a self directed activity where you may drop in as you
  like between 1-4PM. Materials will be provided, but you are welcome to br
 ing your own coloring project. No registration is required, but please sig
 n the attendance sheet when you arrive.
URL:https://scottlib.librarycalendar.com/event/adult-color-time-3095
END:VEVENT
END:VCALENDAR
